BEGIN:VCALENDAR
VERSION:2.0
PRODID:-//thesysconsultores.com - ECPv6.15.11//NONSGML v1.0//EN
CALSCALE:GREGORIAN
METHOD:PUBLISH
X-ORIGINAL-URL:https://thesysconsultores.com
X-WR-CALDESC:Eventos para thesysconsultores.com
REFRESH-INTERVAL;VALUE=DURATION:PT1H
X-Robots-Tag:noindex
X-PUBLISHED-TTL:PT1H
BEGIN:VTIMEZONE
TZID:America/Bogota
BEGIN:STANDARD
TZOFFSETFROM:-0500
TZOFFSETTO:-0500
TZNAME:-05
DTSTART:20240101T000000
END:STANDARD
END:VTIMEZONE
BEGIN:VEVENT
DTSTART;TZID=America/Bogota:20250709T080000
DTEND;TZID=America/Bogota:20250709T170000
DTSTAMP:20260419T075051
CREATED:20250709T224607Z
LAST-MODIFIED:20251110T204658Z
UID:886-1752048000-1752080400@thesysconsultores.com
SUMMARY:Evento
DESCRIPTION:Descripción
URL:https://thesysconsultores.com/event/evento/
LOCATION:Online\, Colombia
ATTACH;FMTTYPE=image/png:https://thesysconsultores.com/wp-content/uploads/2025/07/Diseno-sin-titulo-11.png
END:VEVENT
END:VCALENDAR